BEGIN:VCALENDAR
VERSION:2.0
PRODID:-//Museumspoorlijn STAR - ECPv6.15.20//NONSGML v1.0//EN
CALSCALE:GREGORIAN
METHOD:PUBLISH
X-WR-CALNAME:Museumspoorlijn STAR
X-ORIGINAL-URL:https://www.stadskanaalrail.nl
X-WR-CALDESC:Veranstaltungen für Museumspoorlijn STAR
REFRESH-INTERVAL;VALUE=DURATION:PT1H
X-Robots-Tag:noindex
X-PUBLISHED-TTL:PT1H
BEGIN:VTIMEZONE
TZID:UTC
BEGIN:STANDARD
TZOFFSETFROM:+0000
TZOFFSETTO:+0000
TZNAME:UTC
DTSTART:20250101T000000
END:STANDARD
END:VTIMEZONE
BEGIN:VEVENT
DTSTART;TZID=UTC:20260712T100000
DTEND;TZID=UTC:20260712T170000
DTSTAMP:20260421T184126
CREATED:20260420T082510Z
LAST-MODIFIED:20260420T082759Z
UID:45723-1783850400-1783875600@www.stadskanaalrail.nl
SUMMARY:Fahrtag
DESCRIPTION:An diesem Tag fährt der Dampfzug zwischen Stadskanaal und Veendam gemäß untenstehendem Fahrplan. Zwischen Stadskanaal und Nieuw-Buinen fährt an diesem Tag ein historischer Dieselzug.\nTicketverkauf\nKaufen Sie Ihr Ticket online in unserem Ticketshop\, dann können Sie es bei Ihrer Ankunft ganz einfach am Schalter gegen eine authentische Fahrkarte eintauschen! Tickets sind auch an den Bahnhöfen Stadskanaal und Veendam erhältlich. Der Schaffner kontrolliert und entwertet die Fahrkarte im Zug. \nStellen Sie sicher\, dass Sie immer mindestens 30 Minuten vor Abfahrt anwesend sind! \nZeiten\n\n\n\n\nStadskanaal – Veendam\n\n\nRoter Fahrplan\n\n\n\nStadskanaal – Abfahrt\n10:30\n13:50\n\n\nBareveld *\nauf Verlangen*\nauf Verlangen*\n\n\nWildervank – Abfahrt\n11:02\n14:22\n\n\nVeendam – Ankunft\n11:15\n14:35\n\n\n\n\n\n\n\nVeendam – Stadskanaal\n\n\nRoter Fahrplan\n\n\n\nVeendam – Abfahrt\n11:45\n15:05\n\n\nWildervank – Abfahrt\n11:58\n15:18\n\n\nBareveld *\n auf Verlangen*\nauf Verlangen*\n\n\nStadskanaal – Ankunft\n12:30\n15:50\n\n\n\n* Haltestelle Bareveld: Hier hält der Zug nur auf Verlangen! Wenn Sie auf dem Bahnsteig stehen\, heben Sie die Hand\, wenn sich der Zug nähert. Sind Sie an einem der anderen Bahnhöfe in den Zug gestiegen? Geben Sie dann dem Schaffner Bescheid\, dass Sie in Bareveld aussteigen möchten.\n \n\n\n\n\nStadskanaal – Nieuw Buinen\n\n\nRoter Fahrplan\n\n\n\nStadskanaal – Abfahrt\n13:00\n15:00\n\n\nNieuw Buinen – Ankunft\n13:20\n15:20\n\n\n\n\n\n\n\nNieuw Buinen – Stadskanaal\n\n\nRoter Fahrplan\n\n\n\nNieuw Buinen – Abfahrt\n13:30\n15:30\n\n\nStadskanaal – Ankunft\n13:50\n15:50\n\n\n\n* Haltestelle Bareveld: Hier hält der Zug nur auf Verlangen! Wenn Sie auf dem Bahnsteig stehen\, heben Sie die Hand\, wenn sich der Zug nähert. Sind Sie an einem der anderen Bahnhöfe in den Zug gestiegen? Geben Sie dann dem Schaffner Bescheid\, dass Sie in Bareveld aussteigen möchten.
URL:https://www.stadskanaalrail.nl/de/agenda/rijdag120726/
CATEGORIES:Rote fahrtag
END:VEVENT
END:VCALENDAR